BEGIN:VCALENDAR
VERSION:2.0
PRODID:-//Sensualizando la mente - ECPv6.0.13.1//NONSGML v1.0//EN
CALSCALE:GREGORIAN
METHOD:PUBLISH
X-WR-CALNAME:Sensualizando la mente
X-ORIGINAL-URL:https://www.educandoensexualidad.com.mx
X-WR-CALDESC:Eventos para Sensualizando la mente
REFRESH-INTERVAL;VALUE=DURATION:PT1H
X-Robots-Tag:noindex
X-PUBLISHED-TTL:PT1H
BEGIN:VTIMEZONE
TZID:UTC
BEGIN:STANDARD
TZOFFSETFROM:+0000
TZOFFSETTO:+0000
TZNAME:UTC
DTSTART:20180101T000000
END:STANDARD
TZID:America/Mexico_City
BEGIN:DAYLIGHT
TZOFFSETFROM:-0600
TZOFFSETTO:-0500
TZNAME:CDT
DTSTART:20190407T080000
END:DAYLIGHT
BEGIN:STANDARD
TZOFFSETFROM:-0500
TZOFFSETTO:-0600
TZNAME:CST
DTSTART:20191027T070000
END:STANDARD
END:VTIMEZONE
BEGIN:VEVENT
DTSTART;TZID=UTC:20201003T100000
DTEND;TZID=UTC:20201205T140000
DTSTAMP:20260426T011240
CREATED:20200817T014914Z
LAST-MODIFIED:20200817T034937Z
UID:798-1601719200-1607176800@www.educandoensexualidad.com.mx
SUMMARY:Taller: Descubriendo tu Sensualidad
DESCRIPTION:¿En qué consiste este taller?\nEs una invitación a rencontrarnos con nuestros cuerpos a través de un espacio reflexivo-experimental\, se construirá una nueva forma de vivir nuestra sensualidad. Revisaremos nuestras creencias\, prejuicios y limitantes entorno a cómo hemos entendido el erotismo y la sensorialidad\, a través de actividades reflexivas y la práctica del movimiento guiado y autentico. \nEl taller está pensado para co-crear un espacio de autocuidado y cuidado colectivo\, donde se deconstruyan significados que nos han alejado de nuestra sexualidad\, la apropiación a nuestra corporalidad y donde se ha mercantilizado el placer y se ha adoctrinado a lo largo del tiempo que nuestro erotismo sólo debe existir si es con y para otro. Por ello\, creemos firmemente que necesitamos más escenarios que permitan seguir cada día conquistando nuestros cuerpos como primer territorio. \nLa sensualidad es diversa\, no debe ser mirada o anclada desde la heterosexualidad o a través de moldes que fortalecen los estereotipos\, empecemos por la aceptación a la diferencia\, nuestra sexualidad es tan amplia que no puede ser reducida solo a los órganos sexuales. \n\nNo te arrepentirás\, te esperamos en este increíble taller.\n  \nObjetivos del taller:\n\n Incrementar el conocimiento entorno a la sensualidad a través de ejercicios y actividades prácticas.\n Experimentar a través de los sentidos y movimiento corporal la potencialización de la sensualidad y autoconocimiento.\n Incrementar la sensualidad y la autoconfianza a través de la inclusión y consciencia de herramientas que permitan la resignificación de la vivencia erótica-sensual. \n\n Reflexionar entorno a las creencias absolutistas y basadas en pensamientos irracionales que deterioran la autoestima y limitan el ejercicio erótico-sensual.\n Resignificar colectivamente sobre la sensualidad.\n\nContenidos:\n\n Sexualidad y sensualidad\n Movimiento creativo\n Experimentación sensual\n Estereotipos y roles sociales\n Mitos entorno a la expresión sensual\n Propiocepción como herramienta de conocimiento y validez corporal\n Redescubriendo las sensaciones y la conexión con el pensamiento y la vivencia erótica\n Iniciación a nuestro redescubrimiento como seres sensuales a través del movimiento\, utilizando diferentes técnicas de sensibilización y baile sensual\n\nDirigido a mujeres\nCuatro horas por sesión\, durante ocho sesiones.\nHorario: 10 am a 2 pm\nInversión: $3\,500 por todas las sesiones.\nDescuento: Se hará $500 de descuento si se cubre antes de septiembre.  \nSe trabajará el sábado 3\, 10\, 17 y 31 de octubre y 7\, 14\, 21 de noviembre y 5 de diciembre. \nFacilitadoras:  \n\n Liliana Herrera (Educando en Sexualidad)\n Nora Marines (In Motion Coaching)\n\nMás información a través del correo electrónico:  contacto@educandoensexualidad.com.mx o al número telefónico 5512 811562 \nLugar por confirmar. \n 
URL:https://www.educandoensexualidad.com.mx/event/taller-descubriendo-tu-sensualidad/
LOCATION:Lugar por Confirmar\, Mexico
CATEGORIES:Danza,Danza Terapia
ATTACH;FMTTYPE=image/jpeg:https://www.educandoensexualidad.com.mx/wp-content/uploads/2020/08/WhatsApp-Image-2020-08-16-at-20.29.26.jpeg
ORGANIZER;CN="Educando%20en%20Sexualidad":MAILTO:contacto@educandoensexualidad.com.mx
END:VEVENT
BEGIN:VEVENT
DTSTART;TZID=UTC:20191004T160000
DTEND;TZID=UTC:20191004T180000
DTSTAMP:20260426T011240
CREATED:20191003T144254Z
LAST-MODIFIED:20191003T144254Z
UID:643-1570204800-1570212000@www.educandoensexualidad.com.mx
SUMMARY:Taller: "Experimentando mi Sexualidad a través del Cuerpo: Danzaterapia" en la Semana de DiversidadES + personas LGBTTTIQ y personas con discapacidad
DESCRIPTION:Pilares Cantera\nFacilitadora: Psic. Liliana Herrera\n\n\n\n\n\nVIERNES 4 DE OCTUBRE\nHorario: 16:00 a 18:00 hrs. En el salón de danza. \n#EntradaLibre\nCentro de Desarrollo Comunitario\nAv. Antonio Delfín Madrigal 665\, Pedregal de Santo Domingo\, 04369 Ciudad de México\, CDMX\n01 55 5338 7409 https://maps.app.goo.gl/4NDHgqhMYDf41zhH7
URL:https://www.educandoensexualidad.com.mx/event/taller-experimentando-mi-sexualidad-a-traves-del-cuerpo-danzaterapia-en-la-semana-de-diversidades-personas-lgbtttiq-y-personas-con-discapacidad/
LOCATION:PILARES Cantera\, Centro de Desarrollo Comunitario Av. Antonio Delfín Madrigal 665\, Pedregal de Santo Domingo\, Ciudad de México\, CDMX\, 04369\, Mexico
CATEGORIES:Danza,Danza Terapia
ATTACH;FMTTYPE=image/jpeg:https://www.educandoensexualidad.com.mx/wp-content/uploads/2019/10/71381351_827438747671449_1971693196375228416_n.jpg
END:VEVENT
BEGIN:VEVENT
DTSTART;TZID=UTC:20191002T160000
DTEND;TZID=UTC:20191002T180000
DTSTAMP:20260426T011240
CREATED:20191003T145159Z
LAST-MODIFIED:20191003T145159Z
UID:646-1570032000-1570039200@www.educandoensexualidad.com.mx
SUMMARY:Conversatorio de Diversidad Sexual en la Semana de DiversidadES + personas LGBTTTIQ y personas con discapacidad
DESCRIPTION:Pilares Cantera\, CDMX.\nModeradora: Psic. Liliana Herrera\nMIÉRCOLES 2 DE OCTUBRE\nHorario: 16:00 a 18:00 hrs. En Ciberescuela \n#EntradaLibre\nCentro de Desarrollo Comunitario\nAv. Antonio Delfín Madrigal 665\, Pedregal de Santo Domingo\, 04369 Ciudad de México\, CDMX\n01 55 5338 7409 https://maps.app.goo.gl/4NDHgqhMYDf41zhH7
URL:https://www.educandoensexualidad.com.mx/event/conversatorio-de-diversidad-sexual-en-la-semana-de-diversidades-personas-lgbtttiq-y-personas-con-discapacidad/
LOCATION:PILARES Cantera\, Centro de Desarrollo Comunitario Av. Antonio Delfín Madrigal 665\, Pedregal de Santo Domingo\, Ciudad de México\, CDMX\, 04369\, Mexico
CATEGORIES:Danza,Danza Terapia
ATTACH;FMTTYPE=image/jpeg:https://www.educandoensexualidad.com.mx/wp-content/uploads/2019/10/71381351_827438747671449_1971693196375228416_n.jpg
END:VEVENT
BEGIN:VEVENT
DTSTART;TZID=UTC:20190919T180000
DTEND;TZID=UTC:20190919T203000
DTSTAMP:20260426T011240
CREATED:20190919T014716Z
LAST-MODIFIED:20190919T014716Z
UID:617-1568916000-1568925000@www.educandoensexualidad.com.mx
SUMMARY:Movimiento\, creatividad y bienestar: Danzaterapia
DESCRIPTION:Asistan al taller de #Danzarerapia ?? en Pilares Cantera\, CDMX\nFacilitadora: Psic. Liliana Herrera \n¡TODOS LOS VIERNES DEL 2019! Horario: 18:00 a 19:30\nTomar en cuenta: \n\nNo necesitas experiencia\nTraer ropa cómoda\nTraer agua\n\n#EntradaLibre \nCentro de Desarrollo Comunitario\nAv. Antonio Delfín Madrigal 665\, Pedregal de Santo Domingo\, 04369 Ciudad de México\, CDMX\nhttps://maps.app.goo.gl/4NDHgqhMYDf41zhH7
URL:https://www.educandoensexualidad.com.mx/event/movimiento-creatividad-y-bienestar-danzaterapia/
LOCATION:PILARES Cantera\, Centro de Desarrollo Comunitario Av. Antonio Delfín Madrigal 665\, Pedregal de Santo Domingo\, Ciudad de México\, CDMX\, 04369\, Mexico
CATEGORIES:Danza,Danza Terapia
ATTACH;FMTTYPE=image/jpeg:https://www.educandoensexualidad.com.mx/wp-content/uploads/2019/09/62307470_748147418933916_7734757078098509824_o.jpg
END:VEVENT
BEGIN:VEVENT
DTSTART;TZID=UTC:20190430T120000
DTEND;TZID=UTC:20190430T133000
DTSTAMP:20260426T011240
CREATED:20190421T013024Z
LAST-MODIFIED:20190421T013048Z
UID:566-1556625600-1556631000@www.educandoensexualidad.com.mx
SUMMARY:Conversatorio Egresadas de PROSEXHUM
DESCRIPTION:Conversatorio Egresadas de PROSEXHUM\nExperiencia a partir de la formación\nEncuentro del Programa de Sexualidad Humana “35 años haciendo camino para la salud en la sexualidad y de género” \nCONVERSATORIO\n\nYutzin Cinencio\nMinerva Martínez Montelongo – Charlas interactivas\nGabriel Trujillo Colotla – VIH/SIDA\nJuly Taylor Hernández – Terapeuta\nLiliana Herrera – Psicodanza \nOmar Guevara – Terapeuta\n\nModeradora: Mtra. Patricia Bedolla Miranda \n\n 
URL:https://www.educandoensexualidad.com.mx/event/conversatorio-egresadas-de-prosexhum/
LOCATION:Auditorio Dr. Luis Lara Tapia\, Facultad de Psicología – UNAM\, Circuto Escolar 3000\, Copilco Universidad\, México\, CDMX\, 04360\, Mexico
CATEGORIES:Danza,Danza Terapia
ATTACH;FMTTYPE=image/jpeg:https://www.educandoensexualidad.com.mx/wp-content/uploads/2019/04/WhatsApp-Image-2019-04-20-at-17.51.49.jpeg
ORGANIZER;CN="Prosexhum%20Facultad%20de%20Psicolog%C3%ADa":MAILTO:redprosexhum.encuentro@gmail.com
END:VEVENT
BEGIN:VEVENT
DTSTART;TZID=America/Mexico_City:20190429T150000
DTEND;TZID=America/Mexico_City:20190429T190000
DTSTAMP:20260426T011240
CREATED:20190420T225036Z
LAST-MODIFIED:20190420T225036Z
UID:555-1556550000-1556564400@www.educandoensexualidad.com.mx
SUMMARY:Taller Reflexivo Vivencial\, Sexualidad en Movimiento: Danzaterapia
DESCRIPTION:Taller Reflexivo Vivencial\, Sexualidad en Movimiento: Danzaterapia en el Primer Encuentro Prosexhum\n¡Otro bello taller que se dará en nuestro encuentro! \nImpartido por la licenciada Liliana Herrera directora de Educando en Sexualidad formada como educadora y terapeuta en sexualidad en el PROSEXHUM y como danzoterapeuta en Sensodanza Terapia A.C. \n“La danza es el arte del cuerpo\, es la expresión del ser interior a través de la conciencia del propio cuerpo y del espacio que ocupa. Cuando la danza “toma el mando” las restricciones intelectuales y las inhibiciones de la mente consciente se disuelven y el ser interior se expresa a través del cuerpo y las energías creativas” Miranda Gray. \nNo olviden inscribirse en el correo: redprosexhum.encuentro@gmail.com \nPp
URL:https://www.educandoensexualidad.com.mx/event/taller-reflexivo-vivencial-sexualidad-en-movimiento-danzaterapia/
LOCATION:Facultad de Psicología\, UNAM\, Circuito Ciudad Universitaria\, Av Cd Universitaria\, CDMX\, CDMX\, 04510\, Mexico
CATEGORIES:Danza,Danza Terapia
ATTACH;FMTTYPE=image/png:https://www.educandoensexualidad.com.mx/wp-content/uploads/2019/04/Untitled-design-2.png
ORGANIZER;CN="Prosexhum%20Facultad%20de%20Psicolog%C3%ADa":MAILTO:redprosexhum.encuentro@gmail.com
END:VEVENT
BEGIN:VEVENT
DTSTART;TZID=UTC:20181026T180000
DTEND;TZID=UTC:20181026T200000
DTSTAMP:20260426T011240
CREATED:20181022T200230Z
LAST-MODIFIED:20181025T225831Z
UID:296-1540576800-1540584000@www.educandoensexualidad.com.mx
SUMMARY:Curso reflexivo-vivencial: Resignificación de la autoestima corporal en mujeres adultas a través de la danza terapia: movimiento\, reconocimiento y significado
DESCRIPTION:Curso reflexivo-vivencial: Resignificación de la autoestima corporal en mujeres adultas a través de la danza terapia: movimiento\, reconocimiento y significado \n  \nObjetivo General:  \nPromover la apropiación y resignificación del cuerpo\, a través de la facilitación de herramientas psicocorporales que ayuden a fortalecer la autoestima\, el desarrollo y potencialización de habilidades de movimiento a través de la danza terapia. \nDirigido a:\nMujeres adultas interesadas en trabajar el fortalecimiento de la autoestima a través del movimiento y la sensibilización corporal. \n\nSe inicia el viernes 26 de octubre y posteriormente los días 3\, 9\, 10 y 16 de noviembre a las 18 horas. \n  \nEn total son 5 sesiones. \n\nRecomendaciones:\n\nSe recomienda tomar al menos 4 sesiones.\nLlevar ropa cómoda.\nLlevar una botella de agua.\nNo es necesario tener experiencia previa en danza.\nEl costo de cada sesión es de $80 y se pagará al término de cada una.\nLa casa de Danza y Arte Tere se ubica a un lado de la Comer de Miguel Angel de Quevedo en la colonia Romero de Terreros\, Coyacán.\n\nCurso reflexivo-vivencial: Resignificación de la autoestima corporal en mujeres adultas a través de la danza terapia: movimiento\, reconocimiento y significado Click To Tweet\nActividades:\nSesión 1: Esquema Corporal\n\nObjetivos: \n\nLas participantes tomarán conciencia de su corporalidad a través del movimiento\, el ejercicio de memoria y el trabajo en equipo para su mejor integración.\nEnfocarán su atención y reflexionarán sobre su corporalidad\, a través de la creatividad\, detectando previamente memorias corporales limitantes y recursos favorables que les permitan reflexionar y generar consciencia de su cuerpo.\n\n\n\nSesión 2: Expresión Corporal y Posturas Emocionales \n\nObjetivos: \n\nLas participantes trabajarán con la identificación de los límites corporales a través de la escritura\, la música y su representación en posturas\nReconocerán y regularán las emociones a través del movimiento auténtico\, el pensamiento racional e irracional como forma de adaptación e introspección corporal\nSe analizará su expresión corporal a través de los diferentes elementos de las cualidades del movimiento\n\n\n\nSesión 3: Dialogo corporal a través de la técnica del espejo \n\nObjetivos: \n\nExperimentarán patrones de movimiento corporal a través de la técnica llamada espejo.\nReconocerán y responderán el contacto visual y la participación con las demás integrantes\, romperán con el aislamiento y la distancia interpersonal\, gestando la confianza grupal.\nDesarrollarán un sentido de aceptación y confianza a través del lenguaje no verbal de forma armónica y empática\n\n\n\nSesión 4: Procesos de duelo corporal a través de la danza terapia\n\nObjetivos: \n\nIdentificar las etapas de duelo y los síntomas que la acompañan\, para su mejor integración y trabajo corporal.\nConectar de forma simbólica y a través del movimiento los sentimientos de pérdida\, dolor o enfermedad corporal\, con la finalidad de resignificar el evento y permitir un proceso de duelo.\nReconocer los recursos y las redes de apoyo en procesos de duelo\, como herramientas de acompañamiento y asimilación de eventos dolorosos.\n\n\n\nSesión 5: Apertura de los sentidos a través del sensorama y cierre. \n\nObjetivos: \n\nSe adquirirá una relajación corporal y confianza grupal con ejercicios de respiración y conexión a través de la propiocepción.\nSe desarrollará la sensibilización de los sentidos y se experimentarán sensaciones placenteras que permitirán contactarse con el propio cuerpo a través del uso de la imaginación y los sentidos.\nFomentar el buentrato y el autocuidado\, a través de explorar nuevas formas de contacto con las demás personas.\n\n\n\nCupo limitado\n  \n \n 
URL:https://www.educandoensexualidad.com.mx/event/curso-reflexivo-vivencial-resignificacion-de-la-autoestima-corporal-a-traves-de-la-danza-terapia/
LOCATION:Casa de Danza y Arte Tere\, Melchor Ocampo 339\, CDMX\, CDMX\, 04310\, Mexico
CATEGORIES:Danza,Danza Terapia
ATTACH;FMTTYPE=image/jpeg:https://www.educandoensexualidad.com.mx/wp-content/uploads/2018/10/44543161_2196040333749292_8351007425339326464_n-1.jpg
END:VEVENT
END:VCALENDAR